###############################################################################
# Cussen, E.J.;Battle, P.D. (2000)
# Chemistry of Materials (1,1989- 12, 831-838
# Crystal and magnetic structures of 2H Ba Mn O3
# 
# CIF by ICSD-for-WWW,  Copyright 2003 FIZ-Karlsruhe & A.W.Hewat (hewat@ill.fr)
# NOT TO BE PUBLISHED IN ANY FORM. See http://icsd.ill.fr/icsd/conditions.html
###############################################################################

data_89995-ICSD
_database_code_ICSD                89995
_audit_creation_date               2002-04-01
_chemical_name_systematic
'Barium manganate(IV) - 2H'
_chemical_formula_structural       
'Ba (Mn O3)'
_chemical_formula_sum              
'Ba1 Mn1 O3'
_publ_section_title                
'Ba1 Mn1 O3'
loop_
_citation_id
_citation_journal_abbrev
_citation_year
_citation_journal_volume
_citation_page_first
_citation_page_last
_citation_journal_id_ASTM
primary 'Chemistry of Materials (1,1989-' 2000 12 831 838 CMATEX
loop_
_publ_author_name
Cussen, E.J.;Battle, P.D.
_cell_length_a                     9.8467(1)
_cell_length_b                     9.8467(1)
_cell_length_c                     4.8075(1)
_cell_angle_alpha                  90.
_cell_angle_beta                   90.
_cell_angle_gamma                  120.
_cell_volume                       403.671
_cell_formula_units_Z              6.000
_symmetry_space_group_name_H-M     'P 63 c m'
_symmetry_Int_Tables_number        185
_refine_ls_R_factor_all            0.0334
loop_
_symmetry_equiv_pos_site_id
_symmetry_equiv_pos_as_xyz
   1   'x, x-y, z+1/2'

   2   '-x+y, y, z+1/2'

   3   '-y, -x, z+1/2'

   4   'x-y, x, z+1/2'

   5   'y, -x+y, z+1/2'

   6   '-x, -y, z+1/2'

   7   '-x, -x+y, z'

   8   'x-y, -y, z'

   9   'y, x, z'

  10   '-x+y, -x, z'

  11   '-y, x-y, z'

  12   'x, y, z'

loop_
_atom_type_symbol
_atom_type_oxidation_number
Ba2+     2.
Mn4+     4.
O2-     -2.
loop_
_atom_site_label
_atom_site_type_symbol
_atom_site_symmetry_multiplicity
_atom_site_Wyckoff_symbol
_atom_site_fract_x
_atom_site_fract_y
_atom_site_fract_z
_atom_site_B_iso_or_equiv
_atom_site_occupancy
Ba1 Ba2+ 6 c 0.332(2) 0.332(2) 0.238(5) 0.0047(5) 1.
Mn1 Mn4+ 2 a 0 0 0 -.002(8) 1.
Mn2 Mn4+ 4 b 0.666667 0.333333 0.963(3) 0.007(5) 1.
O1 O2- 6 c 0 0.150(2) 0.250(5) 0.005(4) 1.
O2 O2- 12 d 0.667(1) 0.484(1) 0.212(5) 0.006(2) 1.
#End of data_89995-ICSD


